BEGIN:VCALENDAR
VERSION:2.0
PRODID:-//International Year of Plant Health - ECPv4.9.10//NONSGML v1.0//EN
CALSCALE:GREGORIAN
METHOD:PUBLISH
X-WR-CALNAME:International Year of Plant Health
X-ORIGINAL-URL:https://planthealthyear.org.au
X-WR-CALDESC:Events for International Year of Plant Health
BEGIN:VTIMEZONE
TZID:Australia/Sydney
BEGIN:STANDARD
TZOFFSETFROM:+1100
TZOFFSETTO:+1000
TZNAME:AEST
DTSTART:20200404T160000
END:STANDARD
BEGIN:DAYLIGHT
TZOFFSETFROM:+1000
TZOFFSETTO:+1100
TZNAME:AEDT
DTSTART:20201003T160000
END:DAYLIGHT
END:VTIMEZONE
BEGIN:VEVENT
DTSTART;VALUE=DATE:20200303
DTEND;VALUE=DATE:20200306
DTSTAMP:20200229T015126
CREATED:20191023T040257Z
LAST-MODIFIED:20191023T040641Z
UID:4421-1583193600-1583452799@planthealthyear.org.au
SUMMARY:Greenlife Industry National Conference
DESCRIPTION:Healthy plants\, healthy people\nThe ‘Healthy plants healthy people’ conference ties into the UN proclaimed International Year of Plant Health and will contribute to raising awareness of how protecting plant health can support people through health and well-being\, economic development\, protecting the environment\, providing food security and helping to end poverty. \nIt will be a ‘ground up’ practical conference to assist businesses be agile\, flexible and responsive in a changing business and operating environment. \n
URL:https://planthealthyear.org.au/event/greenlife-industry-national-conference/
LOCATION:The Westin\, 480 Hay Street\, Perth\, Western Australia\, 6000\, Australia
CATEGORIES:Conference,Western Australia
ATTACH;FMTTYPE=image/jpeg:https://planthealthyear.org.au/wp-content/uploads/2019/10/Greenlife-Industry-National-Conference.jpg
END:VEVENT
BEGIN:VEVENT
DTSTART;TZID=Australia/Sydney:20200306T190000
DTEND;TZID=Australia/Sydney:20200306T230000
DTSTAMP:20200229T015126
CREATED:20200120T053711Z
LAST-MODIFIED:20200120T054226Z
UID:4859-1583521200-1583535600@planthealthyear.org.au
SUMMARY:Lights! Canberra! Action!
DESCRIPTION:Enlighten Festival is shining a spotlight on Canberra’s talented filmmakers as competition sparks creativity. \nFor the 17th year of Lights! Canberra! Action! the theme is ‘planted’\, which will tie in with the International Year of the Plant as well as 100 years since Canberra began populating. Filmmakers will also be given a list of ten items to include in their movie\, with only ten days to shoot\, edit and produce a seven minute film. \n
URL:https://planthealthyear.org.au/event/lights-canberra-action/
LOCATION:Senate Rose Gardens\, Old Parliament House\, 18 King George Terrace\, Parkes\, Canberra\, ACT\, 2600\, Australia
CATEGORIES:Film
ATTACH;FMTTYPE=image/jpeg:https://planthealthyear.org.au/wp-content/uploads/2020/01/Lights-camera-action.jpg
END:VEVENT
BEGIN:VEVENT
DTSTART;VALUE=DATE:20200325
DTEND;VALUE=DATE:20200326
DTSTAMP:20200229T015126
CREATED:20200122T050734Z
LAST-MODIFIED:20200122T050734Z
UID:4896-1585094400-1585180799@planthealthyear.org.au
SUMMARY:Steps to Sustainability Conference 2020
DESCRIPTION:Be part of Victoria’s largest sustainability education conference focussed on the UN’s International Year of Plant Health. \nJoin over 200 teachers\, environmental educators and local government officers at the Steps to Sustainability 2020 conference. \nThis year’s conference will have a focus on sustainability education for action on health and wellbeing of our environment and our people. \nThis conference has been designed especially for people working on school sustainability projects and curriculum initiatives. Enjoy a day at the Royal Botanic Gardens\, meet other teachers and get lots of ideas to take back to your workplace. \n
URL:https://planthealthyear.org.au/event/steps-to-sustainability-conference-2020/
LOCATION:Melbourne Gardens\, Birdwood Ave\, South Yarra\, Victoria\, 3141\, Australia
CATEGORIES:Conference,Victoria
ATTACH;FMTTYPE=image/jpeg:https://planthealthyear.org.au/wp-content/uploads/2020/01/Steps-to-Sustainability.jpg
END:VEVENT
BEGIN:VEVENT
DTSTART;VALUE=DATE:20200511
DTEND;VALUE=DATE:20200513
DTSTAMP:20200229T015126
CREATED:20191114T052930Z
LAST-MODIFIED:20200122T041509Z
UID:4489-1589155200-1589327999@planthealthyear.org.au
SUMMARY:B3 Plant Biosecurity Research Forum
DESCRIPTION:Save the date. More details to come. \n
URL:https://planthealthyear.org.au/event/b3-plant-biosecurity-research-forum/
LOCATION:Museum of New Zealand Te Papa\, 55 Cable Street\, Wellington\, Western Australia\, 6011\, New Zealand
CATEGORIES:Conference,New Zealand
ATTACH;FMTTYPE=image/jpeg:https://planthealthyear.org.au/wp-content/uploads/2019/11/B3-NZ.jpg
END:VEVENT
BEGIN:VEVENT
DTSTART;VALUE=DATE:20200512
DTEND;VALUE=DATE:20200514
DTSTAMP:20200229T015126
CREATED:20191118T050403Z
LAST-MODIFIED:20200122T003300Z
UID:4524-1589241600-1589414399@planthealthyear.org.au
SUMMARY:Science Exchange
DESCRIPTION:Australian Government Department of Agriculture’s Science Exchange. \nSave the date. More information to come \n
URL:https://planthealthyear.org.au/event/science-exchange/
LOCATION:National Film and Sound Archive\, McCoy Cct\, Canberra\, ACT\, 2601\, Australia
CATEGORIES:ACT,Conference
ATTACH;FMTTYPE=image/jpeg:https://planthealthyear.org.au/wp-content/uploads/2019/11/Presentation.jpg
END:VEVENT
BEGIN:VEVENT
DTSTART;VALUE=DATE:20200621
DTEND;VALUE=DATE:20200625
DTSTAMP:20200229T015126
CREATED:20200121T052733Z
LAST-MODIFIED:20200121T053719Z
UID:4865-1592697600-1593043199@planthealthyear.org.au
SUMMARY:16th Australasian Plant Breeding Conference
DESCRIPTION:Towards 2050\nThis is the first conference since 2014 and we believe there will be great benefits by providing this new opportunity for breeders and allied scientists across all crops (including grains\, fodder\, fruit and nuts\, forestry\, floriculture) to come together. \nThe theme ‘Towards 2050’ has been chosen to capture the long-term nature of plant breeding\, and the essential role the discipline will play in delivering food and prosperity to the predicted world population of 9 billion by this date\, in the face of decreasing available production area\, climate change and demand for new products. \nOur vision for the conference is a meeting place for plant breeders and allied scientists to come together and share experiences and ideas to support our drive towards 2050. We particularly want to encourage participation of future and developing scientists. \n
URL:https://planthealthyear.org.au/event/16th-australasian-plant-breeding-conference/
LOCATION:QT Hotel Gold Coast\, 7 Staghorn Ave\, Surfers Paradise\, Queensland\, Australia
CATEGORIES:Conference,Queensland
ATTACH;FMTTYPE=image/jpeg:https://planthealthyear.org.au/wp-content/uploads/2020/01/Australasian-Plant-Breeding-Conference.jpg
END:VEVENT
BEGIN:VEVENT
DTSTART;VALUE=DATE:20201025
DTEND;VALUE=DATE:20201029
DTSTAMP:20200229T015126
CREATED:20200122T044720Z
LAST-MODIFIED:20200122T044826Z
UID:4891-1603584000-1603929599@planthealthyear.org.au
SUMMARY:22nd Australasian Weeds Conference
DESCRIPTION:A Weed Odyssey: Innovation for the future\nThe Weed Management Society of South Australia\, on behalf of the Council of Australasian Weed Societies\, will be hosting the 22nd Australasian Weeds Conference at Adelaide Oval from 25-28 October 2020. \n
URL:https://planthealthyear.org.au/event/22nd-australasian-weeds-conference/
LOCATION:Adelaide Oval\, War Memorial Drive\, North Adelaide\, South Australia\, 5006\, Australia
CATEGORIES:Conference,South Australia
ATTACH;FMTTYPE=image/jpeg:https://planthealthyear.org.au/wp-content/uploads/2020/01/Australasian-Weeds-Conference.jpg
END:VEVENT
BEGIN:VEVENT
DTSTART;VALUE=DATE:20201106
DTEND;VALUE=DATE:20201108
DTSTAMP:20200229T015126
CREATED:20200206T055621Z
LAST-MODIFIED:20200206T060413Z
UID:4969-1604620800-1604793599@planthealthyear.org.au
SUMMARY:Canning Show
DESCRIPTION:With a record number of smiles coming through the gates last year\, plans already afoot to make the 2020 Canning Show even bigger and better\, so best save the dates for the next annual Canning Show. \n
URL:https://planthealthyear.org.au/event/canning-show/
LOCATION:Cannington Exhibition Centre and Showgrounds\, Corner of Station Street and Albany Highway\, Cannington\, Western Australia\, 6107\, Australia
CATEGORIES:Show,Western Australia
ATTACH;FMTTYPE=image/jpeg:https://planthealthyear.org.au/wp-content/uploads/2020/02/Canning-Show-2020.jpg
ORGANIZER;CN="Canning%20Agricultural%2C%20Horticultural%20%26%20Recreational%20Society%20Inc.":MAILTO:enquiries@cahrs.com.au
END:VEVENT
BEGIN:VEVENT
DTSTART;VALUE=DATE:20201124
DTEND;VALUE=DATE:20201128
DTSTAMP:20200229T015126
CREATED:20200121T054622Z
LAST-MODIFIED:20200122T011626Z
UID:4870-1606176000-1606521599@planthealthyear.org.au
SUMMARY:11th Australasian Soilborne Disease Symposium
DESCRIPTION:Protecting the roots of plant health\nThe previous symposia have been outstanding successes promoting soilborne disease and soil health to the world. In the International Year of Plant Health\, ASDS 2020 will be under the banner of ‘Protecting the roots of plant health’. This conference will feature renowned scientists\, leading industry identities from overseas and within Australia. \nPre-symposium workshops and field trips will feature current topics of interest including: \n\npathogen-plant-microbe interactions\novercoming Fusarium wilts\non-farm biosecurity practices\n\n
URL:https://planthealthyear.org.au/event/11th-australasian-soilborne-disease-symposium/
LOCATION:Hilton Cairns\, 34 Esplanade\, Cairns City\, Queensland\, 4870\, Australia
CATEGORIES:Queensland,Symposium
ATTACH;FMTTYPE=image/jpeg:https://planthealthyear.org.au/wp-content/uploads/2020/01/ASDS-2020.jpg
END:VEVENT
BEGIN:VEVENT
DTSTART;VALUE=DATE:20201202
DTEND;VALUE=DATE:20201205
DTSTAMP:20200229T015126
CREATED:20191114T054139Z
LAST-MODIFIED:20191118T042823Z
UID:4494-1606867200-1607126399@planthealthyear.org.au
SUMMARY:Hemipteran-Plant Interactions Symposium
DESCRIPTION:The Hemipteran-Plant Interactions Symposium (HPIS) is an interdisciplinary\, international congress\, bringing together researchers who study phytophagous piercing/sucking insects\, their complex interactions with their host plants\, environment and pathogen transmission. \nThe congress will bring together entomologists with expertise on phytophagous hemipteran insects (Orders Hemiptera and Thysanoptera) and their endosymbionts\, plant biologists and physiologists with expertise on plant defences and responses to hemipteran feeding\, and plant pathologists with expertise on transmission of plant pathogens by hemipterans. It will facilitate an exchange of ideas and foster collaborations across disciplines\, countries to strengthen our understanding of hemipteran biology\, ecology\, spread and economic importance. \nEvent website \n
URL:https://planthealthyear.org.au/event/hemipteran-plant-interactions-symposium/
LOCATION:Melbourne\, Victoria\, Australia
CATEGORIES:Symposium
ATTACH;FMTTYPE=image/jpeg:https://planthealthyear.org.au/wp-content/uploads/2019/11/HPIS2020-1.jpg
END:VEVENT
END:VCALENDAR